BEGIN:VCALENDAR
VERSION:2.0
PRODID:-//Hocking County FCFC Family &amp; Children First Council - ECPv6.15.20//NONSGML v1.0//EN
CALSCALE:GREGORIAN
METHOD:PUBLISH
X-WR-CALNAME:Hocking County FCFC Family &amp; Children First Council
X-ORIGINAL-URL:https://hockingvintonfcfc.org
X-WR-CALDESC:Events for Hocking County FCFC Family &amp; Children First Council
REFRESH-INTERVAL;VALUE=DURATION:PT1H
X-Robots-Tag:noindex
X-PUBLISHED-TTL:PT1H
BEGIN:VTIMEZONE
TZID:America/New_York
BEGIN:DAYLIGHT
TZOFFSETFROM:-0500
TZOFFSETTO:-0400
TZNAME:EDT
DTSTART:20240310T070000
END:DAYLIGHT
BEGIN:STANDARD
TZOFFSETFROM:-0400
TZOFFSETTO:-0500
TZNAME:EST
DTSTART:20241103T060000
END:STANDARD
BEGIN:DAYLIGHT
TZOFFSETFROM:-0500
TZOFFSETTO:-0400
TZNAME:EDT
DTSTART:20250309T070000
END:DAYLIGHT
BEGIN:STANDARD
TZOFFSETFROM:-0400
TZOFFSETTO:-0500
TZNAME:EST
DTSTART:20251102T060000
END:STANDARD
BEGIN:DAYLIGHT
TZOFFSETFROM:-0500
TZOFFSETTO:-0400
TZNAME:EDT
DTSTART:20260308T070000
END:DAYLIGHT
BEGIN:STANDARD
TZOFFSETFROM:-0400
TZOFFSETTO:-0500
TZNAME:EST
DTSTART:20261101T060000
END:STANDARD
BEGIN:DAYLIGHT
TZOFFSETFROM:-0500
TZOFFSETTO:-0400
TZNAME:EDT
DTSTART:20270314T070000
END:DAYLIGHT
BEGIN:STANDARD
TZOFFSETFROM:-0400
TZOFFSETTO:-0500
TZNAME:EST
DTSTART:20271107T060000
END:STANDARD
END:VTIMEZONE
BEGIN:VEVENT
DTSTART;TZID=America/New_York:20251022T180000
DTEND;TZID=America/New_York:20251022T193000
DTSTAMP:20260424T055059
CREATED:20250821T171142Z
LAST-MODIFIED:20250821T171142Z
UID:10000007-1761156000-1761161400@hockingvintonfcfc.org
SUMMARY:Hocking County Trunk or Treat
DESCRIPTION:All ages and abilities are welcome!
URL:https://hockingvintonfcfc.org/event/hocking-county-trunk-or-treat/
LOCATION:Hocking County Fairgrounds\, 100 N Homer Ave\, Logan\, OH\, 43138\, United States
ATTACH;FMTTYPE=image/jpeg:https://hockingvintonfcfc.org/wp-content/uploads/2024/09/tn-halloween-kids.jpg
END:VEVENT
BEGIN:VEVENT
DTSTART;TZID=America/New_York:20251028T180000
DTEND;TZID=America/New_York:20251028T200000
DTSTAMP:20260424T055059
CREATED:20250821T171340Z
LAST-MODIFIED:20250821T171551Z
UID:10000008-1761674400-1761681600@hockingvintonfcfc.org
SUMMARY:Vinton County Trunk or Treat
DESCRIPTION:All ages and abilities are welcome!
URL:https://hockingvintonfcfc.org/event/vinton-county-trunk-or-treat/
LOCATION:Vinton County High School\, 63910 US-50\, McArthur\, OH\, 45651\, United States
ATTACH;FMTTYPE=image/jpeg:https://hockingvintonfcfc.org/wp-content/uploads/2024/09/tn-halloween-kids.jpg
END:VEVENT
BEGIN:VEVENT
DTSTART;TZID=America/New_York:20260514T100000
DTEND;TZID=America/New_York:20260514T140000
DTSTAMP:20260424T055059
CREATED:20260120T184345Z
LAST-MODIFIED:20260120T184345Z
UID:10000009-1778752800-1778767200@hockingvintonfcfc.org
SUMMARY:Kidpalooza 2026
DESCRIPTION:A FREE event for children and their caregivers. The day is filled with indoor and outdoor fun for the little ones. This gives parents the opportunity to receive information from programs\, businesses\, and opportunities serving our community.
URL:https://hockingvintonfcfc.org/event/kidpalooza-2026/
LOCATION:Hocking County Fairgrounds\, 100 N Homer Ave\, Logan\, OH\, 43138\, United States
END:VEVENT
END:VCALENDAR